BEGIN:VCALENDAR
PRODID:NingEventWidget-v1
VERSION:2.0
METHOD:PUBLISH
BEGIN:VEVENT
UID:3234673:Event:16520
DTSTAMP:20260423T172718Z
SUMMARY:GSMI
DESCRIPTION:The Green Data Center Conference and Exhibition is heading
  to Dallas, TX on March 27-29, at the DFW Marriott Hotel & Golf Club.\
 n\nDiscover efficiency innovations in power, cooling, storage and virt
 ualization that will optimize critical facility performance and cut in
 frastructure spending.\n\nThe Green Data Center Conference and Exhibit
 ion is an intimate gathering of the most innovative efficiency leaders
  in the data center space. Delegates will have the opportunity to inte
 ract with colleagues and thought leaders without the overbearing crowd
 s of standard exhibitions. The conference seeks to provide strategic i
 nformation for data center professionals looking to optimize their fac
 ility through increased energy efficiency and innovative data center d
 esign trends. \n\nOpening Keynote Announced! Case Study- Terremark W
 orldwide: “Deliver ROI through Best Practices in Energy Efficiency,
  with Ben Stewart, Senior Vice President, Facility Engineering at
 Terremark. \n\nThree Conference Themes\n\nPower and Cooling Efficien
 cies\nDC Design Innovations\nManagement and Operational Strategies\n\n
 \nConference highlights and topics covered include:\n\nPower and cooli
 ng technologies for enhanced energy efficiency\nData Center Infrastruc
 ture Management (DCIM)\nData center building trends and site selection
 \nMetrics and measurements that ensure optimized performance\nGreen st
 orage techniques and technologies\nFinancing, strategy and ROI\nPlus, 
 attendees will tour the Health Care Services Corporation (BCBS) tier I
 V data center!\n\n\nFor more information visit http://www.datacenterve
 ndors.com/events/gsmi
DTSTART:20120327T000000Z
DTEND:20120329T235900Z
CATEGORIES:conference, and, exhibition
LOCATION:DFW Marriott Hotel and Golf Club
WEBSITE:http://www.greendatacenterconference.com
URL:http://www.greendatacenterconference.com
CONTACT:888-409-4418
ORGANIZER;CN=GSMI:http://www.datacentervendors.com/profile/GSMI
ATTACH;FMTTYPE="image/jpeg":http://storage.ning.com/topology/rest/1.0/
 file/get/2832325103?profile=original
ATTENDEE;ROLE=REQ-PARTICIPANT;PARTSTAT=ACCEPTED;RSVP=TRUE;CN=GSMI:http
 ://www.datacentervendors.com/profile/GSMI
END:VEVENT
END:VCALENDAR
