BEGIN:VCALENDAR
PRODID:NingEventWidget-v1
VERSION:2.0
METHOD:PUBLISH
BEGIN:VEVENT
UID:3234673:Event:170
DTSTAMP:20260419T205524Z
SUMMARY:ONLY BIG TRADE SHOWS LISTED HERE
DESCRIPTION:Only big tradeshows will be listed here.\n\nFor more infor
 mation visit http://www.datacentervendors.com/events/only-big-trade-sh
 ows-listed
DTSTART:20100813T180000Z
DTEND:20110804T190000Z
CATEGORIES:tradeshows
LOCATION:worldwide
WEBSITE:
URL:
CONTACT:
ORGANIZER;CN="DataCenterVendors.Com":http://www.datacentervendors.com/
 profile/NetworkCreator
ATTACH;FMTTYPE="image/jpeg":
ATTENDEE;ROLE=REQ-PARTICIPANT;PARTSTAT=ACCEPTED;RSVP=TRUE;CN="DataCent
 erVendors.Com":http://www.datacentervendors.com/profile/NetworkCreator
END:VEVENT
END:VCALENDAR
